BEGIN:VCALENDAR
VERSION:2.0
PRODID:-//ChurchDev//Events//EN
CALSCALE:GREGORIAN
METHOD:PUBLISH
BEGIN:VEVENT
UID:3260-20260308@www.marshalltownnazarene.org
SUMMARY:Sunday School
DTSTART:20260308T143000Z
DTEND:20260308T153000Z
DESCRIPTION:https://www.marshalltownnazarene.org/events/sunday-school/
LOCATION: 1015 S. Center St. Marshalltown\, IA 50158
URL:https://www.marshalltownnazarene.org/events/sunday-school/
DTSTAMP:20260419T205828Z
END:VEVENT
END:VCALENDAR
