BEGIN:VCALENDAR
VERSION:2.0
PRODID:-//ChurchDev//Events//EN
CALSCALE:GREGORIAN
METHOD:PUBLISH
BEGIN:VEVENT
UID:3172-20251008@www.marshalltownnazarene.org
SUMMARY:Glory Club
DTSTART:20251008T230000Z
DTEND:20251009T003000Z
DESCRIPTION:https://www.marshalltownnazarene.org/events/glory-club-6/
LOCATION: 1015 S. Center St. Marshalltown\, IA 50158
URL:https://www.marshalltownnazarene.org/events/glory-club-6/
DTSTAMP:20260419T205827Z
END:VEVENT
END:VCALENDAR
